BEGIN:VCALENDAR
VERSION:2.0
PRODID:-//wp-events-plugin.com//6.5//EN
BEGIN:VEVENT
UID:77-154@michigan.swea.org
DTSTART:20220228T000000Z
DTEND:20220228T000000Z
DTSTAMP:20220223T215627Z
URL:https://michigan.swea.org/events/michigan-regional/
SUMMARY:Michigan Regional
DESCRIPTION:
END:VEVENT
END:VCALENDAR